BEGIN:VCALENDAR
VERSION:2.0
PRODID:-//Plone.org//NONSGML plone.app.event//EN
X-WR-TIMEZONE:America/Maceio
BEGIN:VEVENT
SUMMARY:XI Simpósio Internacional de Climatologia – SIC
DTSTART;VALUE=DATE:20250818
DTEND;VALUE=DATE:20250823
DTSTAMP:20260419T164032Z
UID:aad95dd7e8a74179a9df657597ff8fbf@icat.ufal.br
CONTACT:https://www.instagram.com/xi_sic2025
CREATED:20250227T132217Z
LAST-MODIFIED:20250227T141446Z
LOCATION:Belém - PA
URL:https://icat.ufal.br/pt-br/graduacao/meteorologia/eventos/xi-simposio-
 internacional-de-climatologia-sic
END:VEVENT
END:VCALENDAR
