BEGIN:VCALENDAR
VERSION:2.0
PRODID:-//Plone.org//NONSGML plone.app.event//EN
X-WR-TIMEZONE:America/Maceio
BEGIN:VEVENT
SUMMARY:I Simpósio Internacional de Energia e Meteorologia - SIEME
DTSTART;VALUE=DATE:20250820
DTEND;VALUE=DATE:20250823
DTSTAMP:20260420T042013Z
UID:e32f67d63a194956a7557b8bbf30b96e@icat.ufal.br
CONTACT:https://sieme2025.com.br
CREATED:20250227T134657Z
DESCRIPTION:O Simpósio Internacional de Energia e Meteorologia (SIEME) em
  2025 será um espaço essencial para o intercâmbio de avanços  científ
 icos e estratégicos no setor. Reunindo especialistas e líderes das Amér
 icas e demais continentes\, o evento abordará o  papel da resiliência e 
 inovação em fontes renováveis como alicerces para a segurança energét
 ica em meio ao aumento de  eventos climáticos extremos.\n\nInscrições a
 té 20/08/2025.
LAST-MODIFIED:20250227T172609Z
LOCATION:Jatiúca Hotel & Resort - Maceió-AL
URL:https://icat.ufal.br/pt-br/graduacao/meteorologia/eventos/i-simposio-i
 nternacional-de-energia-e-meteorologia-sieme
END:VEVENT
END:VCALENDAR
