BEGIN:VCALENDAR
VERSION:2.0
PRODID:-//Plone.org//NONSGML plone.app.event//EN
X-WR-TIMEZONE:America/Maceio
BEGIN:VEVENT
SUMMARY:XII SEMANA DA METEOROLOGIA
DTSTART;TZID=America/Maceio:20200803T210000
DTEND;TZID=America/Maceio:20200807T000000
DTSTAMP:20260420T021613Z
UID:b1a99688712549b990013b61e23e0990@icat.ufal.br
CONTACT:Prof. Dr. Heliofábio Barros Gomes\, sensorgeo.icat@gmail.com.\, h
 ttps://ufal.br/ufal/noticias/2020/7/semana-da-meteorologia-do-icat-reune-p
 esquisadores-do-brasil-e-dos-eua
CREATED:20200803T180917Z
DESCRIPTION:No período entre os dias 04 a 07 de agosto de 2020\, o Instit
 uto de Ciências Atmosféricas (ICAT) da Universidade Federal de Alagoas (
 UFAL)\, realiza a XII SEMANA DA METEOROLOGIA\, com a temática Meteorologi
 a\, Tecnologia e Sociedade. \n\nEm decorrência da pandemia da COVID-19\, 
 a organização do evento vem promover o encontro das comunidades acadêmi
 cas-científicas da Meteorologia e áreas afins\, tendo como objetivo melh
 orar a compreensão da teoria e prática de vários temas e sua relação 
 com a sociedade\, além de promover a interação entre pesquisadores das 
 áreas para troca de experiências profissionais e enriquecimento do conhe
 cimento de assuntos relacionados aos eixos temáticos. Um dos pontos princ
 ipais do evento foi estimular os alunos de graduação e pós-graduação\
 , além de poder interagir com colegas de outras instituições e sociedad
 e civil sobre a temática abordada.\n\n\nOs interessados em participar dev
 em se inscrever via Sistema Integrado de Gestão de Atividades Acadêmicas
  (SIGAA)\, seguindo as abas: Extensão > Eventos. Inscrições: http://sig
 aa.sig.ufal.br.\n\n\nO evento será aberto à comunidade externa à univer
 sidade\, e acontecera por videoconferência através da plataforma Google 
 Meet. A programação completa está disponível  abaixo e nas redes socia
 is do ICAT (@camet.nossotempo)\, Centro Acadêmico (@icatufal)\,  Prof Dr.
  Heliofábio (@heliofabiogomes) e na página da UFAL (https://ufal.br/ufal
 /noticias/2020)\, maiores informações através do e-mail sensorgeo.icat@
 gmail.com. \n\n\nEspaço de Realização: ICAT/UFAL - Vídeo conferência\
 n\nLink: Web Conferência disponíveis por palestras na plataforma google 
 meet.\n\n\nCoordenação Geral\n\n\nProf. Dr. Heliofábio Barros Gomes –
  Coordenador do evento\n\nProf. Dr. Helber Barros Gomes – Coordenador Ad
 junto
LAST-MODIFIED:20200902T212444Z
LOCATION:ICAT/UFAL - Vídeo conferência
URL:https://icat.ufal.br/pt-br/extensao/eventos/xii-semana-da-meteorologia
 -1/xii-semana-da-meteorologia
END:VEVENT
BEGIN:VTIMEZONE
TZID:America/Maceio
X-LIC-LOCATION:America/Maceio
BEGIN:STANDARD
DTSTART:20020216T230000
TZNAME:-03
TZOFFSETFROM:-0200
TZOFFSETTO:-0300
END:STANDARD
END:VTIMEZONE
END:VCALENDAR
